BEGIN:VCALENDAR
VERSION:2.0
PRODID:-//ChamberMaster//Event Calendar 2.0//EN
METHOD:PUBLISH
X-PUBLISHED-TTL:P3D
REFRESH-INTERVAL:P3D
CALSCALE:GREGORIAN
BEGIN:VEVENT
DTSTART;VALUE=DATE:20120918
DTEND;VALUE=DATE:20120919
TRANSP:TRANSPARENT
X-MICROSOFT-CDO-ALLDAYEVENT:TRUE
SUMMARY:Invitation: Farewell Reception for Frances Zwenig\, DC\, Sep. 18 - Sep 18 2012
DESCRIPTION:
X-ALT-DESC;FMTTYPE=text/html:
LOCATION:
UID:e.9078.425
SEQUENCE:3
DTSTAMP:20260424T185731Z
URL:http://usasean.memberzone.com/events/details/invitation-farewell-reception-for-frances-zwenig-dc-sep-18-sep-18-2012-09-18-2012-425
END:VEVENT

END:VCALENDAR
