BEGIN:VCALENDAR
VERSION:2.0
PRODID:-//ChamberMaster//Event Calendar 2.0//EN
METHOD:PUBLISH
X-PUBLISHED-TTL:P3D
REFRESH-INTERVAL:P3D
CALSCALE:GREGORIAN
BEGIN:VEVENT
DTSTART:20150226T160000Z
DTEND:20150226T170000Z
X-MICROSOFT-CDO-ALLDAYEVENT:FALSE
SUMMARY:Invitation: Discussion with Elizabeth Magsaysay-Crebassa\, Feb 26\, DC
DESCRIPTION:Discussion with Elizabeth Magsaysay-Crebassa\, Philippines Senior Country Representative. Council members are invited to meet the Council's Senior Country Representative of the Philippines Elizabeth "Maxie" Magsaysay-Crebassa and exchange perspectives on the trade and investment opportunities in the Philippines.  Topics of discussion will also include updates on the Philippines' political and economic landscapes\, Council programming in the Philippines and activities around the 2015 Philippines APEC host year.
X-ALT-DESC;FMTTYPE=text/html:Discussion with Elizabeth&nbsp\;Magsaysay-Crebassa\, Philippines Senior Country Representative.&nbsp\;<span style="font-family:arial\,sans-serif\;">Council members are invited to meet the Council&rsquo\;s Senior Country Representative of the Philippines Elizabeth &ldquo\;Maxie&rdquo\; Magsaysay-Crebassa and exchange perspectives on the trade and investment opportunities in the Philippines.&nbsp\; Topics of discussion will also include updates on the Philippines&#39\;&nbsp\;political&nbsp\;and economic landscapes\, Council programming in the Philippines and activities around the 2015 Philippines APEC host year. &nbsp\;&nbsp\;</span>
LOCATION:Procter & Gamble 701 Pennsylvania Avenue\, NW Suite 520
UID:e.9078.1489
SEQUENCE:3
DTSTAMP:20260419T210009Z
URL:http://usasean.memberzone.com/events/details/invitation-discussion-with-elizabeth-magsaysay-crebassa-feb-26-dc-02-26-2015-1489
END:VEVENT

END:VCALENDAR
