BEGIN:VCALENDAR
VERSION:2.0
PRODID:-//ChamberMaster//Event Calendar 2.0//EN
METHOD:PUBLISH
X-PUBLISHED-TTL:P3D
REFRESH-INTERVAL:P3D
CALSCALE:GREGORIAN
BEGIN:VEVENT
DTSTART:20130222T130000Z
DTEND:20130222T140000Z
X-MICROSOFT-CDO-ALLDAYEVENT:FALSE
SUMMARY:Invitation: Breakfast Meeting with Asst. Sec. Jose Fernandez
DESCRIPTION:Assistant Secretary Fernandez is visiting the Philippines and we are honored to have him as our featured speaker.  He will offer his perspectives on the State Department's current and future engagements in Asia\, the US-Philippine bilateral relationship\, and economic initiatives such as technical assistance to the Philippines for Trans-Pacific Partnership (TPP) qualification.  This meeting is an excellent opportunity to introduce your company's business in the Philippines and in Asia.
X-ALT-DESC;FMTTYPE=text/html:<p class="MsoNormal">\n	<span style="font-size:12.0pt\;font-family:&quot\;Times New Roman&quot\;\,&quot\;serif&quot\;\;\nmso-bidi-font-family:&quot\;Times New Roman&quot\;\;mso-bidi-theme-font:minor-bidi">Assistant Secretary Fernandez is visiting the Philippines and we are honored to have him as our featured speaker.&nbsp\; He will offer his perspectives on the State Department&rsquo\;s current and future engagements in Asia\, the US-Philippine bilateral relationship\, and economic initiatives such as technical assistance to the Philippines for Trans-Pacific Partnership (TPP) qualification.&nbsp\; This meeting is an excellent opportunity to introduce your company&#39\;s business in the Philippines and in Asia. &nbsp\;<o:p></o:p></span></p>\n
LOCATION:Metro Manila Exact venue TBD
UID:e.9078.703
SEQUENCE:3
DTSTAMP:20260422T095240Z
URL:http://usasean.memberzone.com/events/details/invitation-breakfast-meeting-with-asst-sec-jose-fernandez-02-22-2013-703
END:VEVENT

END:VCALENDAR
