BEGIN:VCALENDAR
VERSION:2.0
PRODID:-//ChamberMaster//Event Calendar 2.0//EN
METHOD:PUBLISH
X-PUBLISHED-TTL:P3D
REFRESH-INTERVAL:P3D
CALSCALE:GREGORIAN
BEGIN:VEVENT
DTSTART;VALUE=DATE:20111201
DTEND;VALUE=DATE:20111202
TRANSP:TRANSPARENT
X-MICROSOFT-CDO-ALLDAYEVENT:TRUE
SUMMARY:Invitation: Breakfast Discussion with Joel Kopp\, Energy and Natural Resources Officer\, US Embassy Jakarta\, DC - Dec 1 2011
DESCRIPTION:
X-ALT-DESC;FMTTYPE=text/html:
LOCATION:
UID:e.9078.420
SEQUENCE:3
DTSTAMP:20260425T111108Z
URL:http://usasean.memberzone.com/events/details/invitation-breakfast-discussion-with-joel-kopp-energy-and-natural-resources-officer-us-embassy-jakarta-dc-dec-1-2011-12-01-2011-420
END:VEVENT

END:VCALENDAR
