BEGIN:VCALENDAR
VERSION:2.0
PRODID:-//ChamberMaster//Event Calendar 2.0//EN
METHOD:PUBLISH
X-PUBLISHED-TTL:P3D
REFRESH-INTERVAL:P3D
CALSCALE:GREGORIAN
BEGIN:VEVENT
DTSTART:20180830T070000Z
DTEND:20180830T093000Z
X-MICROSOFT-CDO-ALLDAYEVENT:FALSE
SUMMARY:International Trade Forum on Indonesia Strategic Response to Global Trade Issues
DESCRIPTION:As part of the collaboration between the Council\, APINDO (the Employers' Association of Indonesia) and KADIN (Indonesian Chamber of Commerce and Industry)\, we are pleased to invite members to join us for a discussion dialogue forum on the impact of global trade issues on Indonesia.\n\n\n\nGiven the importance\, the forum will serve as a discussion and knowledge sharing session among the government\, private sectors and academics to provide insights and views on foreign countries' trade policies and the implications to the Indonesian government involvement in the global trade.
X-ALT-DESC;FMTTYPE=text/html:<span style="font-family:arial\,sans-serif\;"><span style="font-size:12.0pt\;">As part of the collaboration between the Council\, APINDO (the Employers&rsquo\; Association of Indonesia) and KADIN (Indonesian Chamber of Commerce and Industry)\, we are pleased to invite members to join us for a discussion dialogue<span style="color:#00B0F0\;">&nbsp\;</span>forum on the impact of global trade issues on Indonesia.<br />\n<br />\nGiven the importance\, the forum will serve as a discussion and knowledge sharing session among the government\, private sectors and academics<span style="color:#00B0F0\;">&nbsp\;</span>to provide insights and views on foreign countries&rsquo\; trade policies and the implications to the Indonesian government involvement in the<span style="color:#00B050\;">&nbsp\;</span>global trade.</span></span>
LOCATION:Ruang Serbaguna APINDO Gedung Permata Kuningan\, 10th Floor Jl. Kuningan Mulia Kav. 9C\, Guntur\, Setiabudi Jakarta Selatan\, Indonesia 12980
UID:e.9078.7664
SEQUENCE:3
DTSTAMP:20260420T033842Z
URL:http://usasean.memberzone.com/events/details/international-trade-forum-on-indonesia-strategic-response-to-global-trade-issues-7664
END:VEVENT

END:VCALENDAR
