BEGIN:VCALENDAR
VERSION:2.0
PRODID:-//ChamberMaster//Event Calendar 2.0//EN
METHOD:PUBLISH
X-PUBLISHED-TTL:P3D
REFRESH-INTERVAL:P3D
CALSCALE:GREGORIAN
BEGIN:VEVENT
DTSTART:20210616T011000Z
DTEND:20210616T014000Z
X-MICROSOFT-CDO-ALLDAYEVENT:FALSE
SUMMARY:Innovation Sub-Committee Engagement with the ASEAN Committee of Science\, Technology and Innovation (COSTI)
DESCRIPTION:The US-ASEAN Business Council has been invited to attend and introduce the Council's Innovation Sub-Committee to the ASEAN Committee of Science\, Technology and Innovation (COSTI) during the 79th Meeting of the ASEAN COSTI hosted by Thailand.
X-ALT-DESC;FMTTYPE=text/html:<span style="font-family:arial\,sans-serif\;"><span style="font-size:12.0pt\;">The US-ASEAN Business Council has been invited to attend and introduce the Council&#39\;s Innovation Sub-Committee to the&nbsp\;ASEAN&nbsp\;Committee of Science\, Technology and Innovation (COSTI) during the 79th Meeting of the ASEAN COSTI&nbsp\;hosted by Thailand.&nbsp\;</span></span>
LOCATION:Virtual
UID:e.9078.8495
SEQUENCE:3
DTSTAMP:20260423T104421Z
URL:http://usasean.memberzone.com/events/details/innovation-sub-committee-engagement-with-the-asean-committee-of-science-technology-and-innovation-costi-8495
END:VEVENT

END:VCALENDAR
