BEGIN:VCALENDAR
VERSION:2.0
PRODID:-//ChamberMaster//Event Calendar 2.0//EN
METHOD:PUBLISH
X-PUBLISHED-TTL:P3D
REFRESH-INTERVAL:P3D
CALSCALE:GREGORIAN
BEGIN:VEVENT
DTSTART:20181002T200000Z
DTEND:20181002T220000Z
X-MICROSOFT-CDO-ALLDAYEVENT:FALSE
SUMMARY:Innovation Series: "Traditional Business Disrupted"
DESCRIPTION:The US-ASEAN Business Council has partnered with the Makati Business Club and Manila House to launch the inaugural Innovation Series\, a program comprised of three separate talks on emerging\, transformative\, and disruptive technologies to be held on October 2 and November 2018.\n\n\n\nFor each talk in the series\, an international thought leader or subject matter expert will present an expansive look at cutting-edge innovations and leapfrogging technologies that are disrupting and/or transforming industries\, business models\, and lifestyles. The aim is for the talks to provoke thought\, discussion\, and eventual action in the business community. The target audience for the series will be current and next-generation business leaders and influencers\, as well as select government officials and media. A short reception will follow each talk.  \n\n\n\nPlease contact Elizabeth "Maxie" Magsaysay-Cr bassa (em.crebassa@usasean.org) and Norika Pineda (npineda@usasean.org) if you have any questions about sponsoring the first talk in the Innovation Series.
X-ALT-DESC;FMTTYPE=text/html:The US-ASEAN Business Council has partnered with the Makati Business Club and Manila House to launch the inaugural Innovation Series\, a program comprised of three separate talks on emerging\, transformative\, and disruptive technologies to be held on October 2 and November 2018.<br />\n<br />\nFor each talk in the series\, an international thought leader or subject matter expert will present an expansive look at cutting-edge innovations and leapfrogging technologies that are disrupting and/or transforming industries\, business models\, and lifestyles. The aim is for the talks to provoke thought\, discussion\, and eventual action in the business community. The target audience for the series will be current and next-generation business leaders and influencers\, as well as select government officials and media. A short reception will follow each talk.&nbsp\;&nbsp\;<br />\n<br />\nPlease contact Elizabeth &quot\;Maxie&quot\; Magsaysay-Cr&eacute\;bassa (em.crebassa@usasean.org) and Norika Pineda (npineda@usasean.org) if you have any questions about sponsoring the first talk in the Innovation Series.
LOCATION:Manila House Net Park Building 26th St.\, corner BGC\, 5th Ave Taguig\, Metro Manila Philippines
UID:e.9078.7656
SEQUENCE:3
DTSTAMP:20260420T070211Z
URL:http://usasean.memberzone.com/events/details/innovation-series-traditional-business-disrupted-7656
END:VEVENT

END:VCALENDAR
