BEGIN:VCALENDAR
VERSION:2.0
PRODID:-//ChamberMaster//Event Calendar 2.0//EN
METHOD:PUBLISH
X-PUBLISHED-TTL:P3D
REFRESH-INTERVAL:P3D
CALSCALE:GREGORIAN
BEGIN:VEVENT
DTSTART;VALUE=DATE:20120514
DTEND;VALUE=DATE:20120515
TRANSP:TRANSPARENT
X-MICROSOFT-CDO-ALLDAYEVENT:TRUE
SUMMARY:Infrastructure Working Group Meeting Washington DC - May 14 2012
DESCRIPTION:
X-ALT-DESC;FMTTYPE=text/html:
LOCATION:
UID:e.9078.415
SEQUENCE:3
DTSTAMP:20260425T004228Z
URL:http://usasean.memberzone.com/events/details/infrastructure-working-group-meeting-washington-dc-may-14-2012-05-14-2012-415
END:VEVENT

END:VCALENDAR
