BEGIN:VCALENDAR
VERSION:2.0
PRODID:-//ChamberMaster//Event Calendar 2.0//EN
METHOD:PUBLISH
X-PUBLISHED-TTL:P3D
REFRESH-INTERVAL:P3D
CALSCALE:GREGORIAN
BEGIN:VEVENT
DTSTART:20150529T013000Z
DTEND:20150529T023000Z
X-MICROSOFT-CDO-ALLDAYEVENT:FALSE
SUMMARY:Infrastructure Industry Mission Pre-Mission Planning Call 2 of 2
DESCRIPTION:Please join Infrastructure Committee members on the second of two conference calls to plan for our attendance of the Infrastructure Industry Mission to Jakarta\, Indonesia on June 4.  Call participants will discuss:\n\n\n	Mission objectives and benefits\n	Mission schedule\n	Meeting agendas\, discussion points and speaking interests\n\nAdditional member requests for the mission
X-ALT-DESC;FMTTYPE=text/html:<span style="font-size:14px\;"><span style="font-family:arial\;">Please join Infrastructure&nbsp\;Committee members on the second of two&nbsp\;conference calls to plan for our attendance of the Infrastructure&nbsp\;Industry Mission to Jakarta\, Indonesia on June 4. &nbsp\;Call participants&nbsp\;will discuss:</span></span>\n\n<ul>\n	<li><span style="font-size:14px\;"><span style="font-family:arial\;">Mission objectives and benefits</span></span></li>\n	<li><span style="font-size:14px\;"><span style="font-family:arial\;">Mission schedule</span></span></li>\n	<li><span style="font-size:14px\;"><span style="font-family:arial\;">Meeting agendas\, discussion points and speaking interests</span></span></li>\n</ul>\n<span style="font-size:14px\;"><span style="font-family:arial\;">Additional member requests for the mission</span></span>
LOCATION:
UID:e.9078.1561
SEQUENCE:3
DTSTAMP:20260419T120754Z
URL:http://usasean.memberzone.com/events/details/infrastructure-industry-mission-pre-mission-planning-call-2-of-2-05-28-2015-1561
END:VEVENT

END:VCALENDAR
