BEGIN:VCALENDAR
VERSION:2.0
PRODID:-//ChamberMaster//Event Calendar 2.0//EN
METHOD:PUBLISH
X-PUBLISHED-TTL:P3D
REFRESH-INTERVAL:P3D
CALSCALE:GREGORIAN
BEGIN:VEVENT
DTSTART:20140725T010000Z
DTEND:20140725T020000Z
X-MICROSOFT-CDO-ALLDAYEVENT:FALSE
SUMMARY:Infrastructure Committee Quarterly Meeting & Conference Call
DESCRIPTION:Infrastructure Committee Meet & Greet Session and Quarterly Conference Call
X-ALT-DESC;FMTTYPE=text/html:Infrastructure Committee Meet &amp\; Greet Session and Quarterly Conference Call
LOCATION:Singapore
UID:e.9078.1199
SEQUENCE:3
DTSTAMP:20260420T072934Z
URL:http://usasean.memberzone.com/events/details/infrastructure-committee-quarterly-meeting-conference-call-07-24-2014-1199
END:VEVENT

END:VCALENDAR
