BEGIN:VCALENDAR
VERSION:2.0
PRODID:-//ChamberMaster//Event Calendar 2.0//EN
METHOD:PUBLISH
X-PUBLISHED-TTL:P3D
REFRESH-INTERVAL:P3D
CALSCALE:GREGORIAN
BEGIN:VEVENT
DTSTART:20140425T013000Z
DTEND:20140425T023000Z
X-MICROSOFT-CDO-ALLDAYEVENT:FALSE
SUMMARY:Infrastructure Committee Quarterly Call
DESCRIPTION:Infrastructure Committee Quarterly Conference Call
X-ALT-DESC;FMTTYPE=text/html:Infrastructure Committee Quarterly Conference Call
LOCATION:Call-in details will be circulated to registrants prior to the call
UID:e.9078.1104
SEQUENCE:3
DTSTAMP:20260420T174954Z
URL:http://usasean.memberzone.com/events/details/infrastructure-committee-quarterly-call-04-24-2014-1104
END:VEVENT

END:VCALENDAR
