BEGIN:VCALENDAR
VERSION:2.0
PRODID:-//ChamberMaster//Event Calendar 2.0//EN
METHOD:PUBLISH
X-PUBLISHED-TTL:P3D
REFRESH-INTERVAL:P3D
CALSCALE:GREGORIAN
BEGIN:VEVENT
DTSTART:20180119T010000Z
DTEND:20180119T020000Z
X-MICROSOFT-CDO-ALLDAYEVENT:FALSE
SUMMARY:Infrastructure Committee Call
DESCRIPTION:Please join us for the first Infrastructure Committee Call of 2018. During the call we will review the 2018 Work Plan\, discuss the Committee's country and industry priorities\, and identify upcoming opportunities for the year. If you have any questions or would like to suggest an item to be discussed on the call\, or have any input for the 2018 Work Plan\, please contact Sunita Kapoor at skapoor@usasean.org or Jack Myint at jmyint@usasean.org
X-ALT-DESC;FMTTYPE=text/html:<span style="font-family:arial\,sans-serif\;"><span style="font-size:12.0pt\;">Please join us for the first Infrastructure Committee Call of 2018. During the call we will review the 2018 Work Plan\, discuss the Committee&#39\;s country and industry priorities\, and identify upcoming opportunities for the year.&nbsp\;If you have any questions or would like to suggest an item to be discussed on the call\, or have any input for the 2018 Work Plan\, please contact Sunita Kapoor at skapoor@usasean.org or Jack Myint at jmyint@usasean.org</span></span>
LOCATION:
UID:e.9078.6443
SEQUENCE:3
DTSTAMP:20260419T145304Z
URL:http://usasean.memberzone.com/events/details/infrastructure-committee-call-6443
END:VEVENT

END:VCALENDAR
