BEGIN:VCALENDAR
VERSION:2.0
PRODID:-//ChamberMaster//Event Calendar 2.0//EN
METHOD:PUBLISH
X-PUBLISHED-TTL:P3D
REFRESH-INTERVAL:P3D
CALSCALE:GREGORIAN
BEGIN:VEVENT
DTSTART;VALUE=DATE:20140427
DTEND;VALUE=DATE:20140502
TRANSP:TRANSPARENT
X-MICROSOFT-CDO-ALLDAYEVENT:TRUE
SUMMARY:Indonesian Film Festival 2014
DESCRIPTION:Indonesian Mini Film Festival 2014\, Bethesda MD\n\n\n\nWe are pleased to bring to your attention the Indonesian Mini Film Festival 2014 organized by the Embassy of the Republic of Indonesia\, Washington\, DC. Please note that the event is free and open to the public but registration is necessary for admission.  Please click here to register. \n\n \n\n	\n		\n			Sunday\, April 27\, 2014\n			 \n			 \n		\n		\n			5:00pm-7:00pm                              \n\n			 \n			 \n			Discussion on Indonesia Film Industry\n\n			American University\n\n			4400 Massachusetts Avenue\, NW\n\n			RSVP: Alyssa.m.briggs@gmail.com\n\n			www.discussionindonesiafilm.evenbrite.com\n		\n		\n			\n\n			Monday\, April 28\, 2014\n			 \n			 \n		\n		\n			5.30 pm   6.30 pm\n			 \n			Opening Reception with Ambassador Budi Bowoleksono\n\n			Bethesda Row Cinema\n		\n		\n			6.30 pm   9.30 pm\n			 \n			"Sang Kiai" \n\n			Indonesia's entry for the Best Foreign Language Film at the Academy Awards\, revolves around a religious leader's strategy to secure the country's independence in the 1940s.  \n		\n		\n			\n\n			Tuesday\, April 29\, 2014\n			 \n			 \n		\n		\n			6.30 pm   9.00 pm\n			 \n			"99 Cahaya di Langit Eropa"\n\n			Bethesda Row Cinema\n\n			An adaptation of a best-selling novel\, this film tells the true story of Hanum and her husband\, Rangga who is undertaking graduate studies in Austria. Together\, the couple embark on a three year journey across Europe.\n		\n		\n			\n\n			Wednesday\, April 30\, 2014\n			 \n			 \n		\n		\n			6.30 pm   9.00 pm\n			 \n			"Merantau" \n\n			Bethesda Row Cinema\n\n			Merantau is an Indonesian martial arts film released on August 6\, 2009\, directed and written by Gareth Evans and starring Iko Uwais. It introduces a style of Pencak Silat known as silek harimau (Minang tiger silat) and a Minangkabau tradition know as Merantau. Evans and Uwais collaborated again for the Indonesian action film The Raid: Redemption (2011) and its sequel (2014). Merantau won the Jury Award for Best Film at the 2010 ActionFest.\n		\n		\n			\n\n			Thursday\, May 1\, 2014\n			 \n			 \n		\n		\n			5.30 pm   6.30 pm\n			:\n			Closing Reception with the Minister of Tourism and Creative Economy\n\n			Bethesda Row Cinema\n		\n		\n			6.30 pm   9.00 pm\n			 \n			"9 Summers 10 Autumns" \n\n			A story of hope where the son of a poor minibus driver in Batu\, the City of Apples in East Java\, Indonesia went on to become a multinational company director in New York\, The Big Apple.\n		\n	\n\n\n\n\n\nFor more information please contact Heru Subolo at hsubolo@embassyofindonesia.org\n\nTo register please visit: www.indonesianfilmfest2014.evenbrite.com
X-ALT-DESC;FMTTYPE=text/html:<span style="font-family:arial\,sans-serif\;"><span style="font-size:12.0pt\;"><strong>Indonesian Mini Film Festival 2014\, Bethesda MD</strong><br />\n<br />\nWe are pleased to bring to your attention the Indonesian Mini Film Festival 2014 organized by the Embassy of the Republic of Indonesia\, Washington\, DC. Please note that the <strong>event is free and open to the public but registration is necessary for admission</strong>. &nbsp\;Please <a href="http://www.indonesianfilmfest2014.evenbrite.com">click here to register</a>.&nbsp\;</span></span><br />\n&nbsp\;\n<table border="0" cellpadding="0" cellspacing="0">\n	<tbody>\n		<tr>\n			<td style="width:213px\;padding:0in 0in 0in 0in\;"><strong><span style="font-family:arial\,sans-serif\;">Sunday\, April 27\, 2014</span></strong></td>\n			<td style="width:22px\;padding:0in 0in 0in 0in\;">&nbsp\;</td>\n			<td style="width:403px\;padding:0in 0in 0in 0in\;">&nbsp\;</td>\n		</tr>\n		<tr>\n			<td style="width:213px\;padding:0in 0in 0in 0in\;"><span style="font-family:arial\,sans-serif\;">5:00pm-7:00pm &nbsp\; &nbsp\; &nbsp\; &nbsp\; &nbsp\; &nbsp\; &nbsp\; &nbsp\; &nbsp\; &nbsp\; &nbsp\; &nbsp\; &nbsp\; &nbsp\; &nbsp\;</span><br />\n			&nbsp\;</td>\n			<td style="width:22px\;padding:0in 0in 0in 0in\;">&nbsp\;</td>\n			<td style="width:403px\;padding:0in 0in 0in 0in\;"><strong><span style="font-family:arial\,sans-serif\;">Discussion on Indonesia Film Industry</span></strong><br />\n			<span style="font-family:arial\,sans-serif\;">American University<br />\n			4400 Massachusetts Avenue\, NW<br />\n			RSVP:&nbsp\;<a href="mailto:Alyssa.m.briggs@gmail.com" target="_blank">Alyssa.m.briggs@gmail.com</a><br />\n			<a href="http://www.discussionindonesiafilm.evenbrite.com" target="_blank">www.discussionindonesiafilm.evenbrite.com</a></span></td>\n		</tr>\n		<tr>\n			<td style="width:213px\;padding:0in 0in 0in 0in\;"><br />\n			<strong><span style="font-family:arial\,sans-serif\;">Monday\, April 28\, 2014</span></strong></td>\n			<td style="width:22px\;padding:0in 0in 0in 0in\;">&nbsp\;</td>\n			<td style="width:403px\;padding:0in 0in 0in 0in\;">&nbsp\;</td>\n		</tr>\n		<tr>\n			<td style="width:213px\;padding:0in 0in 0in 0in\;"><span style="font-family:arial\,sans-serif\;">5.30 pm &ndash\; 6.30 pm</span></td>\n			<td style="width:22px\;padding:0in 0in 0in 0in\;">&nbsp\;</td>\n			<td style="width:403px\;padding:0in 0in 0in 0in\;"><strong><span style="font-family:arial\,sans-serif\;">Opening Reception with Ambassador Budi Bowoleksono</span></strong><br />\n			<span style="font-family:arial\,sans-serif\;">Bethesda Row Cinema</span></td>\n		</tr>\n		<tr>\n			<td style="width:213px\;padding:0in 0in 0in 0in\;"><span style="font-family:arial\,sans-serif\;">6.30 pm &ndash\; 9.30 pm</span></td>\n			<td style="width:22px\;padding:0in 0in 0in 0in\;">&nbsp\;</td>\n			<td style="width:403px\;padding:0in 0in 0in 0in\;"><strong><span style="font-family:arial\,sans-serif\;">&ldquo\;Sang Kiai&rdquo\;</span></strong><span style="font-family:arial\,sans-serif\;">&nbsp\;<br />\n			Indonesia&rsquo\;s entry for the Best Foreign Language Film at the Academy Awards\, revolves around a religious leader&rsquo\;s strategy to secure the country&rsquo\;s independence in the 1940s.&nbsp\;&nbsp\;</span></td>\n		</tr>\n		<tr>\n			<td style="width:213px\;padding:0in 0in 0in 0in\;"><br />\n			<strong><span style="font-family:arial\,sans-serif\;">Tuesday\, April 29\, 2014</span></strong></td>\n			<td style="width:22px\;padding:0in 0in 0in 0in\;">&nbsp\;</td>\n			<td style="width:403px\;padding:0in 0in 0in 0in\;">&nbsp\;</td>\n		</tr>\n		<tr>\n			<td style="width:213px\;padding:0in 0in 0in 0in\;"><span style="font-family:arial\,sans-serif\;">6.30 pm &ndash\; 9.00 pm</span></td>\n			<td style="width:22px\;padding:0in 0in 0in 0in\;">&nbsp\;</td>\n			<td style="width:403px\;padding:0in 0in 0in 0in\;"><strong><span style="font-family:arial\,sans-serif\;">&ldquo\;99 Cahaya di Langit Eropa&rdquo\;</span></strong><br />\n			<strong><span style="font-family:arial\,sans-serif\;"><strong>Bethesda Row Cinema</strong></span></strong><br />\n			<span style="font-family:arial\,sans-serif\;">An adaptation of a best-selling novel\, this film tells the true story of Hanum and her husband\, Rangga who is undertaking graduate studies in Austria. Together\, the couple embark on a three year journey across Europe.</span></td>\n		</tr>\n		<tr>\n			<td style="width:213px\;padding:0in 0in 0in 0in\;"><br />\n			<strong><span style="font-family:arial\,sans-serif\;">Wednesday\, April 30\, 2014</span></strong></td>\n			<td style="width:22px\;padding:0in 0in 0in 0in\;">&nbsp\;</td>\n			<td style="width:403px\;padding:0in 0in 0in 0in\;">&nbsp\;</td>\n		</tr>\n		<tr>\n			<td style="width:213px\;padding:0in 0in 0in 0in\;"><span style="font-family:arial\,sans-serif\;">6.30 pm &ndash\; 9.00 pm</span></td>\n			<td style="width:22px\;padding:0in 0in 0in 0in\;">&nbsp\;</td>\n			<td style="width:403px\;padding:0in 0in 0in 0in\;"><strong><span style="font-family:arial\,sans-serif\;">&ldquo\;Merantau&rdquo\;</span></strong><span style="font-family:arial\,sans-serif\;">&nbsp\;<br />\n			Bethesda Row Cinema<br />\n			Merantau is an Indonesian martial arts film released on August 6\, 2009\, directed and written by Gareth Evans and starring Iko Uwais. It introduces a style of Pencak Silat known as silek harimau (Minang tiger silat) and a Minangkabau tradition know as Merantau. Evans and Uwais collaborated again for the Indonesian action film The Raid: Redemption (2011) and its sequel (2014). Merantau won the Jury Award for Best Film at the 2010 ActionFest.</span></td>\n		</tr>\n		<tr>\n			<td style="width:213px\;padding:0in 0in 0in 0in\;"><br />\n			<strong><span style="font-family:arial\,sans-serif\;">Thursday\, May 1\, 2014</span></strong></td>\n			<td style="width:22px\;padding:0in 0in 0in 0in\;">&nbsp\;</td>\n			<td style="width:403px\;padding:0in 0in 0in 0in\;">&nbsp\;</td>\n		</tr>\n		<tr>\n			<td style="width:213px\;padding:0in 0in 0in 0in\;"><span style="font-family:arial\,sans-serif\;">5.30 pm &ndash\; 6.30 pm</span></td>\n			<td style="width:22px\;padding:0in 0in 0in 0in\;"><span style="font-family:arial\,sans-serif\;">:</span></td>\n			<td style="width:403px\;padding:0in 0in 0in 0in\;"><strong><span style="font-family:arial\,sans-serif\;">Closing Reception with the Minister of Tourism and Creative Economy</span></strong><br />\n			<span style="font-family:arial\,sans-serif\;">Bethesda Row Cinema</span></td>\n		</tr>\n		<tr>\n			<td style="width:213px\;padding:0in 0in 0in 0in\;"><span style="font-family:arial\,sans-serif\;">6.30 pm &ndash\; 9.00 pm</span></td>\n			<td style="width:22px\;padding:0in 0in 0in 0in\;">&nbsp\;</td>\n			<td style="width:403px\;padding:0in 0in 0in 0in\;"><strong><span style="font-family:arial\,sans-serif\;">&ldquo\;9 Summers 10 Autumns&rdquo\;</span></strong><span style="font-family:arial\,sans-serif\;">&nbsp\;<br />\n			A story of hope where the son of a poor minibus driver in Batu\, the City of Apples in East Java\, Indonesia went on to become a multinational company director in New York\, The Big Apple.</span></td>\n		</tr>\n	</tbody>\n</table>\n<br />\n<br />\n<span style="font-family:arial\,sans-serif\;"><span style="font-size:12.0pt\;">For more information please contact Heru Subolo at <a href="mailto:hsubolo@embassyofindonesia.org">hsubolo@embassyofindonesia.org</a><br />\nTo register please visit:&nbsp\;<strong><a href="http://www.indonesianfilmfest2014.evenbrite.com/" target="_blank">www.indonesianfilmfest2014.evenbrite.com</a></strong></span></span><br />\n&nbsp\;
LOCATION:Bethesda Row Cinema 7253 Woodmont Avenue Bethesda\, MD 20814
UID:e.9078.1130
SEQUENCE:3
DTSTAMP:20260420T140158Z
URL:http://usasean.memberzone.com/events/details/indonesian-film-festival-2014-04-27-2014-1130
END:VEVENT

END:VCALENDAR
