BEGIN:VCALENDAR
VERSION:2.0
PRODID:-//ChamberMaster//Event Calendar 2.0//EN
METHOD:PUBLISH
X-PUBLISHED-TTL:P3D
REFRESH-INTERVAL:P3D
CALSCALE:GREGORIAN
BEGIN:VEVENT
DTSTART:20230411T030000Z
DTEND:20230411T040000Z
X-MICROSOFT-CDO-ALLDAYEVENT:FALSE
SUMMARY:Indonesia's Health & Life Sciences Virtual Advocacy Meeting
DESCRIPTION:
X-ALT-DESC;FMTTYPE=text/html:
LOCATION:https://usasean.zoom.us/j/87369494311?pwd=VVMvMjdoUCtiajhJYWNtcUo2ZlVIUT09 Meeting ID: 873 6949 4311 Password: 437078
UID:e.9078.8999
SEQUENCE:3
DTSTAMP:20260421T125139Z
URL:http://usasean.memberzone.com/events/details/indonesia-s-health-life-sciences-virtual-advocacy-meeting-8999
END:VEVENT

END:VCALENDAR
