BEGIN:VCALENDAR
VERSION:2.0
PRODID:-//ChamberMaster//Event Calendar 2.0//EN
METHOD:PUBLISH
X-PUBLISHED-TTL:P3D
REFRESH-INTERVAL:P3D
CALSCALE:GREGORIAN
BEGIN:VEVENT
DTSTART;VALUE=DATE:20240117
DTEND;VALUE=DATE:20240125
TRANSP:TRANSPARENT
X-MICROSOFT-CDO-ALLDAYEVENT:TRUE
SUMMARY:Indonesia's 2024 Election Briefing Series
DESCRIPTION:Indonesia's 2024 Election Briefing Series:\n\nMeeting with the National Campaign Team of Indonesia's 2024-2029 President and Vice President Candidates
X-ALT-DESC;FMTTYPE=text/html:<span style="caret-color: rgb(0\, 0\, 0)\; color: rgb(0\, 0\, 0)\; font-family: Arial\; font-size: 22px\; font-weight: 700\; letter-spacing: 1px\; text-align: center\;">Indonesia&#39\;s 2024 Election Briefing Series:</span><br style="caret-color: rgb(0\, 0\, 0)\; color: rgb(0\, 0\, 0)\; font-family: Arial\; font-size: 22px\; font-weight: 700\; letter-spacing: 1px\; text-align: center\;" />\n<span style="caret-color: rgb(0\, 0\, 0)\; color: rgb(0\, 0\, 0)\; font-family: Arial\; font-size: 22px\; font-weight: 700\; letter-spacing: 1px\; text-align: center\;">Meeting with the National Campaign Team of Indonesia&#39\;s 2024-2029 President and Vice President Candidates</span>
LOCATION:St Regis Jakarta
UID:e.9078.9228
SEQUENCE:3
DTSTAMP:20260422T010011Z
URL:http://usasean.memberzone.com/events/details/indonesia-s-2024-election-briefing-series-9228
END:VEVENT

END:VCALENDAR
