BEGIN:VCALENDAR
VERSION:2.0
PRODID:-//ChamberMaster//Event Calendar 2.0//EN
METHOD:PUBLISH
X-PUBLISHED-TTL:P3D
REFRESH-INTERVAL:P3D
CALSCALE:GREGORIAN
BEGIN:VEVENT
DTSTART:20130619T180000Z
DTEND:20130619T190000Z
X-MICROSOFT-CDO-ALLDAYEVENT:FALSE
SUMMARY:Indonesia Health Commercial Coordination Meeting - June
DESCRIPTION:Indonesia Health Commercial Coordination Meeting
X-ALT-DESC;FMTTYPE=text/html:Indonesia Health Commercial Coordination Meeting
LOCATION:US Commercial Service office Wisma Metropolitan II\, 3rd Floor\, Jl. Jendral Sudirman Kav 29-31 (in the World Trade Center complex)
UID:e.9078.813
SEQUENCE:3
DTSTAMP:20260421T210341Z
URL:http://usasean.memberzone.com/events/details/indonesia-health-commercial-coordination-meeting-june-06-19-2013-813
END:VEVENT

END:VCALENDAR
