BEGIN:VCALENDAR
VERSION:2.0
PRODID:-//ChamberMaster//Event Calendar 2.0//EN
METHOD:PUBLISH
X-PUBLISHED-TTL:P3D
REFRESH-INTERVAL:P3D
CALSCALE:GREGORIAN
BEGIN:VEVENT
DTSTART:20130516T180000Z
DTEND:20130516T190000Z
X-MICROSOFT-CDO-ALLDAYEVENT:FALSE
SUMMARY:Indonesia Health Commercial Coordination Meeting
DESCRIPTION:Indonesia Health Commercial Coordination Meeting
X-ALT-DESC;FMTTYPE=text/html:<span style="font-size:14px\;"><span style="font-family: arial\;">Indonesia Health Commercial Coordination Meeting </span></span>
LOCATION:US Commercial Service office Wisma Metropolitan II\, 3rd Floor\, Jl. Jendral Sudirman Kav 29-31 (in the World Trade Center complex)
UID:e.9078.780
SEQUENCE:3
DTSTAMP:20260422T003746Z
URL:http://usasean.memberzone.com/events/details/indonesia-health-commercial-coordination-meeting-05-16-2013-780
END:VEVENT

END:VCALENDAR
