BEGIN:VCALENDAR
VERSION:2.0
PRODID:-//ChamberMaster//Event Calendar 2.0//EN
METHOD:PUBLISH
X-PUBLISHED-TTL:P3D
REFRESH-INTERVAL:P3D
CALSCALE:GREGORIAN
BEGIN:VEVENT
DTSTART:20181018T020000Z
DTEND:20181019T093000Z
X-MICROSOFT-CDO-ALLDAYEVENT:FALSE
SUMMARY:Indonesia Cyber Security Summit
DESCRIPTION:Indonesia Cyber Security Summit:\n\nOur State of Readiness: Facing the Dynamic and Sophisticated Cyber Threat Landscape
X-ALT-DESC;FMTTYPE=text/html:Indonesia Cyber Security Summit:<br />\nOur State of Readiness: Facing the Dynamic and Sophisticated Cyber Threat Landscape
LOCATION:The Anvaya Beach Resort and Convention Center Bali\, Indonesia
UID:e.9078.7711
SEQUENCE:3
DTSTAMP:20260420T070031Z
URL:http://usasean.memberzone.com/events/details/indonesia-cyber-security-summit-7711
END:VEVENT

END:VCALENDAR
