BEGIN:VCALENDAR
VERSION:2.0
PRODID:-//ChamberMaster//Event Calendar 2.0//EN
METHOD:PUBLISH
X-PUBLISHED-TTL:P3D
REFRESH-INTERVAL:P3D
CALSCALE:GREGORIAN
BEGIN:VEVENT
DTSTART:20130716T003000Z
DTEND:20130716T013000Z
X-MICROSOFT-CDO-ALLDAYEVENT:FALSE
SUMMARY:Indonesia Committee Quarterly Call
DESCRIPTION:During the call the Committee will receive a political and economic update from Jim Carouso\, Economic Counsellor at the U.S. Embassy in Jakarta. \n\n\n\nWe will also use this time to discuss the Indonesian Business Mission as well as other programming for the rest of the calendar year. \n\n\n\nThe agenda will be shared a week prior to the call.\n\n\n\nPlease feel free to contact Alexandra Stuart at astuart@usasean.org if you have any questions or specific items to place on the agenda.
X-ALT-DESC;FMTTYPE=text/html:<span style="font-size: 14px\;"><span style="text-align: justify\; line-height: 24px\; font-family: arial\, helvetica\, sans-serif\;">During the call the Committee will receive a political and economic update from&nbsp\;Jim Carouso\, Economic Counsellor at the U.S. Embassy in Jakarta.&nbsp\;</span><br style="text-align: justify\; line-height: 24px\; font-family: arial\, helvetica\, sans-serif\; font-size: 16px\;" />\n<br style="text-align: justify\; line-height: 24px\; font-family: arial\, helvetica\, sans-serif\; font-size: 16px\;" />\n<span style="text-align: justify\; line-height: 24px\; font-family: arial\, helvetica\, sans-serif\;">We will also use this time to discuss the Indonesian Business Mission as well as other programming for the rest of the calendar year.&nbsp\;</span><br style="text-align: justify\; line-height: 24px\; font-family: arial\, helvetica\, sans-serif\; font-size: 16px\;" />\n<br style="text-align: justify\; line-height: 24px\; font-family: arial\, helvetica\, sans-serif\; font-size: 16px\;" />\n<span style="text-align: justify\; line-height: 24px\; font-family: arial\, helvetica\, sans-serif\;">The agenda will be shared a week prior to the call.</span><br />\n<br style="text-align: justify\; line-height: 24px\; font-family: arial\, helvetica\, sans-serif\; font-size: 16px\;" />\n<span style="text-align: justify\; line-height: 24px\; font-family: arial\, helvetica\, sans-serif\;">Please feel free to contact Alexandra Stuart at&nbsp\;</span><a href="mailto:astuart@usasean.org?subject=questions%20about%20Indonesian%20Committee%20Call" style="text-align: justify\; line-height: 24px\; font-family: arial\, helvetica\, sans-serif\; font-size: 16px\;">astuart@usasean.org</a><span style="text-align: justify\; line-height: 24px\; font-family: arial\, helvetica\, sans-serif\;">&nbsp\;if you have any questions or specific items to place on the agenda.&nbsp\;</span></span>
LOCATION:
UID:e.9078.828
SEQUENCE:3
DTSTAMP:20260421T193332Z
URL:http://usasean.memberzone.com/events/details/indonesia-committee-quarterly-call-07-15-2013-828
END:VEVENT

END:VCALENDAR
