BEGIN:VCALENDAR
VERSION:2.0
PRODID:-//ChamberMaster//Event Calendar 2.0//EN
METHOD:PUBLISH
X-PUBLISHED-TTL:P3D
REFRESH-INTERVAL:P3D
CALSCALE:GREGORIAN
BEGIN:VEVENT
DTSTART:20181022T051500Z
DTEND:20181022T061500Z
X-MICROSOFT-CDO-ALLDAYEVENT:FALSE
SUMMARY:Indonesia Committee Members Meeting with Amb. Michalak\, US-ABC Senior Vice President and Regional Managing Director
DESCRIPTION:
X-ALT-DESC;FMTTYPE=text/html:
LOCATION:P.T. HM Sampoerna Tbk. One Pacific Place 18th Floor Rungkut 1 and 2 Room Sudirman Central Business District (SCBD) Lot 3 and 5 Jl. Jend. Sudirman Kav. 52-53 Jakarta 12190
UID:e.9078.7722
SEQUENCE:3
DTSTAMP:20260420T070550Z
URL:http://usasean.memberzone.com/events/details/indonesia-committee-members-meeting-with-amb-michalak-us-abc-senior-vice-president-and-regional-managing-director-7722
END:VEVENT

END:VCALENDAR
