BEGIN:VCALENDAR
VERSION:2.0
PRODID:-//ChamberMaster//Event Calendar 2.0//EN
METHOD:PUBLISH
X-PUBLISHED-TTL:P3D
REFRESH-INTERVAL:P3D
CALSCALE:GREGORIAN
BEGIN:VEVENT
DTSTART:20180705T033000Z
DTEND:20180705T050000Z
X-MICROSOFT-CDO-ALLDAYEVENT:FALSE
SUMMARY:Indonesia Committee Members Meeting
DESCRIPTION:Please join us to discuss and review the latest on the Council's key advocacy efforts\, in addition to streamlining our next steps. The meeting will also explore the broader strategy for U.S. business engagement Indonesia.
X-ALT-DESC;FMTTYPE=text/html:<br />\n<span style="color: rgb(68\, 68\, 68)\; font-family: Arial\, Helvetica\, sans-serif\; font-size: 14px\;">Please join us to discuss and review the latest on the Council&#39\;s key advocacy efforts\, in addition to streamlining our next steps. The meeting will also explore the broader strategy for U.S. business engagement Indonesia.</span>
LOCATION:Citibank Tower Pacific Century Place 9th Floor - SCBD Lot 10 Jakarta Board Meeting Room - 9th Floor Jl. Jend. Sudirman Kav 52-53 Jakarta 12190
UID:e.9078.6609
SEQUENCE:3
DTSTAMP:20260420T033803Z
URL:http://usasean.memberzone.com/events/details/indonesia-committee-members-meeting-6609
END:VEVENT

END:VCALENDAR
