BEGIN:VCALENDAR
VERSION:2.0
PRODID:-//ChamberMaster//Event Calendar 2.0//EN
METHOD:PUBLISH
X-PUBLISHED-TTL:P3D
REFRESH-INTERVAL:P3D
CALSCALE:GREGORIAN
BEGIN:VEVENT
DTSTART;VALUE=DATE:20141209
DTEND;VALUE=DATE:20141212
TRANSP:TRANSPARENT
X-MICROSOFT-CDO-ALLDAYEVENT:TRUE
SUMMARY:Indonesia Business Mission - SOLD OUT
DESCRIPTION:Annual Business Mission to Indonesia
X-ALT-DESC;FMTTYPE=text/html:Annual Business Mission to Indonesia
LOCATION:Jakarta\, Indonesia
UID:e.9078.1218
SEQUENCE:3
DTSTAMP:20260420T001815Z
URL:http://usasean.memberzone.com/events/details/indonesia-business-mission-sold-out-12-09-2014-1218
END:VEVENT

END:VCALENDAR
