BEGIN:VCALENDAR
VERSION:2.0
PRODID:-//ChamberMaster//Event Calendar 2.0//EN
METHOD:PUBLISH
X-PUBLISHED-TTL:P3D
REFRESH-INTERVAL:P3D
CALSCALE:GREGORIAN
BEGIN:VEVENT
DTSTART:20191104T012000Z
DTEND:20191104T112000Z
X-MICROSOFT-CDO-ALLDAYEVENT:FALSE
SUMMARY:Indo-Pacific Business Forum in Bangkok
DESCRIPTION:The Indo-Pacific Business Forum in Bangkok\, Thailand will take place on the sidelines of the East Asia Summit (EAS) on November 4\, 2019. It will bring together key U.S. Cabinet Secretaries and senior leaders from U.S. government and business to discuss how government tools and policies can facilitate private sector partnerships to unleash the full potential of the Indo-Pacific region. A follow-up to the Indo-Pacific Business Forum held at the U.S. Chamber of Commerce on July 30\, 2018\, the this forum will also bring together government and business leaders from Indo-Pacific countries. Additionally\, the forum will include the announcement of several initiatives in sectors such as energy\, infrastructure\, and the digital economy.\n\n\n\nClick here for the latest agenda.\n\n\n\nThis unique event will focus on the opportunities for increasing trade and investment between the United States and economies across the Indo-Pacific region\, with an emphasis on the most pertinent challenges to growth in the digital economy\, energy\, and infrastructure development.\n\n\n\nTopics will include:\n\n	Financing Growth in the Indo-Pacific\n	Digital Commercialization and Security\n	Infrastructure Development in the Indo-Pacific\n	Developing Energy Sources in the Indo-Pacific\n\nWe expect either the President or the Vice President to lead the U.S. delegation\, and as the forum will take place in the same venue as EAS\, we also expect a number of heads of government and cabinet officials to participate\, along with senior executives from across the region.  \n\n\n\nThe Forum will provide an excellent platform to showcase your company's activities in the region\, and we want to highlight possible announcements and deal signings at the event. Please share input on any potential announcements or deal signings that your company may be pursuing over the next several months\, in any of the Indo-Pacific nations. This may include inbound investments\, exports\, major purchase contracts or other activities. Any sensitive information will be kept strictly confidential in the interim. The November 4 Forum will provide an excellent platform to showcase and publicize any such deals.  \n\n\n\nMore information on the Indo-Pacific Business Forum in Bangkok and the associated Secretary of Commerce Mission to Thailand\, Indonesia\, and Vietnam can be found here.\n\n\n\nThe event is being organized by the US-ASEAN Business Council\, in cooperation with the U.S. Government\, the Royal Thai Government\, AmCham Thailand\, the Thai Chamber of Commerce\, and the U.S. Chamber of Commerce. \n\n\n\nFor more information or sponsorship opportunities\, please contact Ella Duangkaew at eduangkaew@usasean.org and Riley Smith at rsmith@usasean.org.
X-ALT-DESC;FMTTYPE=text/html:The <a href="https://www.indopacificbusinessforum.com/">Indo-Pacific Business Forum in Bangkok\, Thailand</a> will take place on the sidelines of the East Asia Summit (EAS) on November 4\, 2019. It will bring together key U.S. Cabinet Secretaries and senior leaders from U.S. government and business to discuss how government tools and policies can facilitate private sector partnerships to unleash the full potential of the Indo-Pacific region. A follow-up to the Indo-Pacific Business Forum held at the U.S. Chamber of Commerce on July 30\, 2018\, the this forum will also bring together government and business leaders from Indo-Pacific countries. Additionally\, the forum will include the announcement of several initiatives in sectors such as energy\, infrastructure\, and the digital economy.<br />\n<br />\nClick <a href="https://www.indopacificbusinessforum.com/agenda">here</a>&nbsp\;for the latest agenda.<br />\n<br />\nThis unique event will focus on the opportunities for increasing trade and investment between the United States and economies across the Indo-Pacific region\, with an emphasis on the most pertinent challenges to growth in the digital economy\, energy\, and infrastructure development.<br />\n<br />\nTopics will include:\n<ul>\n	<li>Financing Growth in the Indo-Pacific</li>\n	<li>Digital Commercialization and Security</li>\n	<li>Infrastructure Development in the Indo-Pacific</li>\n	<li>Developing Energy Sources in the Indo-Pacific</li>\n</ul>\nWe expect either the President or the Vice President to lead the U.S. delegation\, and as the forum will take place in the same venue as EAS\, we also expect a number of heads of government and cabinet officials to participate\, along with senior executives from across the region.&nbsp\;&nbsp\;<br />\n<br />\nThe Forum will provide an excellent platform to showcase your company&rsquo\;s activities in the region\, and we want to highlight possible announcements and deal signings at the event. Please share input on any potential announcements or deal signings that your company may be pursuing over the next several months\, in any of the Indo-Pacific nations. This may include inbound investments\, exports\, major purchase contracts or other activities. Any sensitive information will be kept strictly confidential in the interim. The November 4 Forum will provide an excellent platform to showcase and publicize any such deals.&nbsp\;&nbsp\;<br />\n<br />\nMore information on the Indo-Pacific Business Forum in Bangkok and the associated Secretary of Commerce Mission to Thailand\, Indonesia\, and Vietnam can be found <a href="https://www.export.gov/indopacific2019">here</a>.<br />\n<br />\nThe event is being organized by the US-ASEAN Business Council\, in cooperation with the U.S. Government\, the Royal Thai Government\, AmCham Thailand\, the Thai Chamber of Commerce\, and the U.S. Chamber of Commerce.&nbsp\;<br />\n<br />\nFor more information or sponsorship opportunities\, please contact Ella Duangkaew at eduangkaew@usasean.org and Riley Smith at rsmith@usasean.org.
LOCATION:Royal Jubilee Ballroom IMPACT Exhibition and Convention Center Bangkok\, Thailand
UID:e.9078.8041
SEQUENCE:3
DTSTAMP:20260424T183258Z
URL:http://usasean.memberzone.com/events/details/indo-pacific-business-forum-in-bangkok-8041
END:VEVENT

END:VCALENDAR
