BEGIN:VCALENDAR
VERSION:2.0
PRODID:-//ChamberMaster//Event Calendar 2.0//EN
METHOD:PUBLISH
X-PUBLISHED-TTL:P3D
REFRESH-INTERVAL:P3D
CALSCALE:GREGORIAN
BEGIN:VEVENT
DTSTART:20191108T020000Z
DTEND:20191108T030000Z
X-MICROSOFT-CDO-ALLDAYEVENT:FALSE
SUMMARY:In-Person Travel and Tourism Quarterly Committee Meeting and Planning Meeting for Business Mission to the 2020 Meetings of ASEAN Tourism Ministers (M-ATM)
DESCRIPTION:
X-ALT-DESC;FMTTYPE=text/html:
LOCATION:US-ABC Singapore Office 100 Beach Road #22-04/05 Singapore 189702
UID:e.9078.8056
SEQUENCE:3
DTSTAMP:20260424T183621Z
URL:http://usasean.memberzone.com/events/details/in-person-travel-and-tourism-quarterly-committee-meeting-and-planning-meeting-for-business-mission-to-the-2020-meetings-of-asean-tourism-ministers-m-atm-8056
END:VEVENT

END:VCALENDAR
