BEGIN:VCALENDAR
VERSION:2.0
PRODID:-//ChamberMaster//Event Calendar 2.0//EN
METHOD:PUBLISH
X-PUBLISHED-TTL:P3D
REFRESH-INTERVAL:P3D
CALSCALE:GREGORIAN
BEGIN:VEVENT
DTSTART:20220421T140000Z
DTEND:20220421T150000Z
X-MICROSOFT-CDO-ALLDAYEVENT:FALSE
SUMMARY:In-Person Roundtable with Malaysian Finance Minister Tengku Zafrul Aziz
DESCRIPTION:In-Person Briefing\n\n			\n\n			with\n\n			\n\n			Minister of Finance\n\n			\n\n			Tengku Zafrul Aziz
X-ALT-DESC;FMTTYPE=text/html:<table cellpadding="0" cellspacing="0" id="invitation" style="text-align: center\; margin: 0px auto\; width: 650px\;">\n	<tbody>\n		<tr>\n			<td colspan="4" id="event-info" style="padding: 20px 0px\; letter-spacing: 1px\; font-family: georgia\, serif\; font-size: 16pt\; font-weight: bold\;"><span style="font-size:20px\;"><span style="font-family: arial\;">In-Person Briefing<br />\n			<br />\n			with<br />\n			<br />\n			Minister of Finance<br />\n			<br />\n			Tengku Zafrul Aziz</span></span></td>\n		</tr>\n		<tr>\n			<td colspan="4" id="logistical-info" style="font-family: georgia\, serif\; font-size: 12pt\;">&nbsp\;</td>\n		</tr>\n	</tbody>\n</table>\n
LOCATION:US-ASEAN Business Council Office 1101 17th St NW Suite 411\, Washington\, DC 20036 https://goo.gl/maps/TGjbzYXQBoy54XHJ7
UID:e.9078.8764
SEQUENCE:3
DTSTAMP:20260422T155411Z
URL:http://usasean.memberzone.com/events/details/in-person-roundtable-with-malaysian-finance-minister-tengku-zafrul-aziz-8764
END:VEVENT

END:VCALENDAR
