BEGIN:VCALENDAR
VERSION:2.0
PRODID:-//ChamberMaster//Event Calendar 2.0//EN
METHOD:PUBLISH
X-PUBLISHED-TTL:P3D
REFRESH-INTERVAL:P3D
CALSCALE:GREGORIAN
BEGIN:VEVENT
DTSTART:20220422T134500Z
DTEND:20220422T143000Z
X-MICROSOFT-CDO-ALLDAYEVENT:FALSE
SUMMARY:In-Person Roundtable with Indonesian Finance Minister Sri Mulyani
DESCRIPTION:In-Person Roundtable with Indonesian Finance Minister Sri Mulyani
X-ALT-DESC;FMTTYPE=text/html:In-Person Roundtable with Indonesian Finance Minister Sri Mulyani
LOCATION:Location: US-ASEAN Business Council office 1101 17th St NW Suite 411\, Washington\, DC 20036
UID:e.9078.8767
SEQUENCE:3
DTSTAMP:20260422T155318Z
URL:http://usasean.memberzone.com/events/details/in-person-roundtable-with-indonesian-finance-minister-sri-mulyani-8767
END:VEVENT

END:VCALENDAR
