BEGIN:VCALENDAR
VERSION:2.0
PRODID:-//ChamberMaster//Event Calendar 2.0//EN
METHOD:PUBLISH
X-PUBLISHED-TTL:P3D
REFRESH-INTERVAL:P3D
CALSCALE:GREGORIAN
BEGIN:VEVENT
DTSTART:20220422T123000Z
DTEND:20220422T133000Z
X-MICROSOFT-CDO-ALLDAYEVENT:FALSE
SUMMARY:In-Person Roundtable with Indonesia B20 Chair and Sherpa
DESCRIPTION:In-Person Roundtable with B20 host organization: Indonesian Chamber of Commerce and Industry (KADIN)\n\n			regarding B20 Priorities and B20 Summit agenda\n\n			in support of Indonesia's G20 Presidency\n\n			and Indonesia's 2023 ASEAN Chairmanship Plans\n		\n		\n			\n\n			Morning coffee and tea from Dua Coffee will be provided
X-ALT-DESC;FMTTYPE=text/html:<table border="0" cellpadding="0" cellspacing="0" id="invitation" style="font-family:Calibri\;text-indent:0px\;text-size-adjust:auto\;width:650px\;" width="650">\n	<tbody>\n		<tr>\n			<td colspan="4" id="event-info" style="padding:15pt 0in\;"><span style="font-size:14px\;"><span style="font-family:arial\;"><strong><span style="letter-spacing:0.75pt\;"><span style="color:#272727\;">In-Person Roundtable with B20 host organization: Indonesian Chamber of Commerce and Industry (KADIN)<br />\n			regarding B20 Priorities and B20 Summit agenda<br />\n			in support of Indonesia&#39\;s G20 Presidency<br />\n			and Indonesia&#39\;s 2023 ASEAN Chairmanship Plans</span></span></strong></span></span></td>\n		</tr>\n		<tr>\n			<td colspan="4" id="logistical-info" style="padding:0in\;"><br />\n			<span style="font-size:14px\;"><span style="font-family:arial\;">Morning coffee and tea from Dua Coffee will be provided</span></span></td>\n		</tr>\n	</tbody>\n</table>\n
LOCATION:US-ASEAN Business Council office
UID:e.9078.8753
SEQUENCE:3
DTSTAMP:20260422T155247Z
URL:http://usasean.memberzone.com/events/details/in-person-roundtable-with-indonesia-b20-chair-and-sherpa-8753
END:VEVENT

END:VCALENDAR
