BEGIN:VCALENDAR
VERSION:2.0
PRODID:-//ChamberMaster//Event Calendar 2.0//EN
METHOD:PUBLISH
X-PUBLISHED-TTL:P3D
REFRESH-INTERVAL:P3D
CALSCALE:GREGORIAN
BEGIN:VEVENT
DTSTART:20240718T150000Z
DTEND:20240718T160000Z
X-MICROSOFT-CDO-ALLDAYEVENT:FALSE
SUMMARY:In person Roundtable with Incoming Minister Counselor for ASEAN Aileen Nandi
DESCRIPTION:In person roundtable with incoming Minister Counselor for ASEAN/Regional Senior Commercial Officer Aileen Nandi
X-ALT-DESC;FMTTYPE=text/html:In person roundtable with incoming Minister Counselor for ASEAN/Regional Senior Commercial Officer Aileen Nandi
LOCATION:1101 17th St NW Suite 411 Washington DC 20036
UID:e.9078.9334
SEQUENCE:3
DTSTAMP:20260422T142152Z
URL:http://usasean.memberzone.com/events/details/in-person-roundtable-with-incoming-minister-counselor-for-asean-aileen-nandi-9334
END:VEVENT

END:VCALENDAR
