BEGIN:VCALENDAR
VERSION:2.0
PRODID:-//ChamberMaster//Event Calendar 2.0//EN
METHOD:PUBLISH
X-PUBLISHED-TTL:P3D
REFRESH-INTERVAL:P3D
CALSCALE:GREGORIAN
BEGIN:VEVENT
DTSTART:20220329T170000Z
DTEND:20220329T174500Z
X-MICROSOFT-CDO-ALLDAYEVENT:FALSE
SUMMARY:In-Person Roundtable with G20 Co-Sherpas and Sous Sherpa
DESCRIPTION:
X-ALT-DESC;FMTTYPE=text/html:
LOCATION:US-ABC office\, 1101 17th St NW Suite 411\, Washington\, DC 20036
UID:e.9078.8734
SEQUENCE:3
DTSTAMP:20260422T175438Z
URL:http://usasean.memberzone.com/events/details/in-person-roundtable-with-g20-co-sherpas-and-sous-sherpa-8734
END:VEVENT

END:VCALENDAR
