BEGIN:VCALENDAR
VERSION:2.0
PRODID:-//ChamberMaster//Event Calendar 2.0//EN
METHOD:PUBLISH
X-PUBLISHED-TTL:P3D
REFRESH-INTERVAL:P3D
CALSCALE:GREGORIAN
BEGIN:VEVENT
DTSTART:20231214T200000Z
DTEND:20231214T210000Z
X-MICROSOFT-CDO-ALLDAYEVENT:FALSE
SUMMARY:In-Person Roundtable with Ambassador Edgard Kagan
DESCRIPTION:In-Person Roundtable with the Honorable Edgard Kagan\, Ambassador of United States to Malaysia\n\n\n\nUS-ASEAN Business Council\, 1101 17th St NW Suite 411\, Washington\, DC 20036\n\n\n\nThursday\, December 14\, 3:00 - 4:00 PM
X-ALT-DESC;FMTTYPE=text/html:<br />\nIn-Person Roundtable with the Honorable Edgard Kagan\, Ambassador of United States to Malaysia<br />\n<br />\n<span style="text-align: center\;">US-ASEAN Business Council\, 1101 17th St NW Suite 411\, Washington\, DC 20036</span><br style="text-align: center\;" />\n<br />\nThursday\, December 14\, 3:00 - 4:00 PM
LOCATION:
UID:e.9078.9224
SEQUENCE:3
DTSTAMP:20260421T230320Z
URL:http://usasean.memberzone.com/events/details/in-person-roundtable-with-ambassador-edgard-kagan-9224
END:VEVENT

END:VCALENDAR
