BEGIN:VCALENDAR
VERSION:2.0
PRODID:-//ChamberMaster//Event Calendar 2.0//EN
METHOD:PUBLISH
X-PUBLISHED-TTL:P3D
REFRESH-INTERVAL:P3D
CALSCALE:GREGORIAN
BEGIN:VEVENT
DTSTART:20230914T033000Z
DTEND:20230914T050000Z
X-MICROSOFT-CDO-ALLDAYEVENT:FALSE
SUMMARY:[In-Person] Indonesia's Health & Life Sciences Advocacy Meeting
DESCRIPTION:
X-ALT-DESC;FMTTYPE=text/html:
LOCATION:
UID:e.9078.9135
SEQUENCE:3
DTSTAMP:20260421T160938Z
URL:http://usasean.memberzone.com/events/details/in-person-indonesia-s-health-life-sciences-advocacy-meeting-9135
END:VEVENT

END:VCALENDAR
