BEGIN:VCALENDAR
VERSION:2.0
PRODID:-//ChamberMaster//Event Calendar 2.0//EN
METHOD:PUBLISH
X-PUBLISHED-TTL:P3D
REFRESH-INTERVAL:P3D
CALSCALE:GREGORIAN
BEGIN:VEVENT
DTSTART:20240418T180000Z
DTEND:20240418T190000Z
X-MICROSOFT-CDO-ALLDAYEVENT:FALSE
SUMMARY:In-Person Briefing on Indonesia Energy Transition & EV Development
DESCRIPTION:
X-ALT-DESC;FMTTYPE=text/html:
LOCATION:
UID:e.9078.9273
SEQUENCE:3
DTSTAMP:20260422T071627Z
URL:http://usasean.memberzone.com/events/details/in-person-briefing-on-indonesia-energy-transition-ev-development-9273
END:VEVENT

END:VCALENDAR
