BEGIN:VCALENDAR
VERSION:2.0
PRODID:-//ChamberMaster//Event Calendar 2.0//EN
METHOD:PUBLISH
X-PUBLISHED-TTL:P3D
REFRESH-INTERVAL:P3D
CALSCALE:GREGORIAN
BEGIN:VEVENT
DTSTART:20130220T133000Z
DTEND:20130220T150000Z
X-MICROSOFT-CDO-ALLDAYEVENT:FALSE
SUMMARY:ICT Working Group Quarterly Meeting - February 20\, 2013
DESCRIPTION:Please join us for a meeting to discuss upcoming ICT events and initiatives.
X-ALT-DESC;FMTTYPE=text/html:Please join us for a meeting to discuss upcoming ICT events and initiatives. 
LOCATION:For those in Singapore\, we will be meeting at HP's office. Continental breakfast will be provided. Hewlett Packard 450 Alexandra Road Singapore 119960
UID:e.9078.699
SEQUENCE:3
DTSTAMP:20260422T081514Z
URL:http://usasean.memberzone.com/events/details/ict-working-group-quarterly-meeting-february-20-2013-02-20-2013-699
END:VEVENT

END:VCALENDAR
