BEGIN:VCALENDAR
VERSION:2.0
PRODID:-//ChamberMaster//Event Calendar 2.0//EN
METHOD:PUBLISH
X-PUBLISHED-TTL:P3D
REFRESH-INTERVAL:P3D
CALSCALE:GREGORIAN
BEGIN:VEVENT
DTSTART:20181102T010000Z
DTEND:20181102T020000Z
X-MICROSOFT-CDO-ALLDAYEVENT:FALSE
SUMMARY:ICT Committee Quarterly Call
DESCRIPTION:Please join us for the fourth (and final) ICT Committee Quarterly Call of 2018. During the call we will review the Committee's current advocacy priorities and upcoming engagement opportunities for the year\, such as the 2018 TELMIN. We will also discuss priorities to be included in the 2019 ICT Committee Work Plan. If you have any questions\, or would like to suggest an item to be discussed on the call\, please contact Ella Duangkaew at eduangkaew@usasean.org.
X-ALT-DESC;FMTTYPE=text/html:<span style="font-family: &quot\;Arial&quot\;\,sans-serif\; font-size: 12pt\; mso-fareast-font-family: &quot\;Times New Roman&quot\;\; mso-ansi-language: EN-US\; mso-fareast-language: EN-US\; mso-bidi-language: AR-SA\;"><font color="#000000">Please join us for the fourth (and final) ICT Committee Quarterly Call of 2018. During the call we will review the Committee&#39\;s current advocacy priorities and upcoming engagement opportunities for the year\, such as the 2018 TELMIN. We will also discuss priorities to be included in the 2019 ICT Committee Work Plan.</font><font color="#000000">&nbsp\;If you have any questions\, or would like to suggest an item to be discussed on the call\, please contact Ella Duangkaew at <a href="mailto:eduangkaew@usasean.org">eduangkaew@usasean.org</a>. </font></span>
LOCATION:Dial in details will be provided to participants ahead of the call.
UID:e.9078.7717
SEQUENCE:3
DTSTAMP:20260420T154833Z
URL:http://usasean.memberzone.com/events/details/ict-committee-quarterly-call-7717
END:VEVENT

END:VCALENDAR
