BEGIN:VCALENDAR
VERSION:2.0
PRODID:-//ChamberMaster//Event Calendar 2.0//EN
METHOD:PUBLISH
X-PUBLISHED-TTL:P3D
REFRESH-INTERVAL:P3D
CALSCALE:GREGORIAN
BEGIN:VEVENT
DTSTART:20240520T203000Z
DTEND:20240520T213000Z
X-MICROSOFT-CDO-ALLDAYEVENT:FALSE
SUMMARY:Hybrid Roundtable with US Ambassador-Designate to Indonesia\, the Hon. Kamala Lakhdhir
DESCRIPTION:
X-ALT-DESC;FMTTYPE=text/html:
LOCATION:US-ASEAN Business Council 1101 17th Street\, NW Suite 411 Washington\, DC
UID:e.9078.9300
SEQUENCE:3
DTSTAMP:20260422T091610Z
URL:http://usasean.memberzone.com/events/details/hybrid-roundtable-with-us-ambassador-designate-to-indonesia-the-hon-kamala-lakhdhir-9300
END:VEVENT

END:VCALENDAR
