BEGIN:VCALENDAR
VERSION:2.0
PRODID:-//ChamberMaster//Event Calendar 2.0//EN
METHOD:PUBLISH
X-PUBLISHED-TTL:P3D
REFRESH-INTERVAL:P3D
CALSCALE:GREGORIAN
BEGIN:VEVENT
DTSTART:20140702T010000Z
DTEND:20140702T020000Z
X-MICROSOFT-CDO-ALLDAYEVENT:FALSE
SUMMARY:Human Capital and Skill Development in ASEAN for the 21st Century Call
DESCRIPTION:
X-ALT-DESC;FMTTYPE=text/html:
LOCATION:Conference call details and agenda will be distributed to registrants prior to the call.
UID:e.9078.1181
SEQUENCE:3
DTSTAMP:20260420T072420Z
URL:http://usasean.memberzone.com/events/details/human-capital-and-skill-development-in-asean-for-the-21st-century-call-07-01-2014-1181
END:VEVENT

END:VCALENDAR
