BEGIN:VCALENDAR
VERSION:2.0
PRODID:-//ChamberMaster//Event Calendar 2.0//EN
METHOD:PUBLISH
X-PUBLISHED-TTL:P3D
REFRESH-INTERVAL:P3D
CALSCALE:GREGORIAN
BEGIN:VEVENT
DTSTART:20181022T120000Z
DTEND:20181022T160000Z
X-MICROSOFT-CDO-ALLDAYEVENT:FALSE
SUMMARY:HTA Training Workshop for Vietnam
DESCRIPTION:Training workshop on Health Technology Assessment for medial devices and value-based procurement. As a follow-up to the study visit that the Council put together for the Ministry of Health and Vietnam Social Security officials in May\, we will be organizing workshops to help regulators in drafting Vietnam's tendering policy for medical devices and supplies.
X-ALT-DESC;FMTTYPE=text/html:Training workshop on Health Technology Assessment for medial devices and value-based procurement. As a follow-up to the study visit that the Council put together for the Ministry of Health and Vietnam Social Security officials in May\, we will be organizing workshops to help regulators in drafting Vietnam&#39\;s tendering policy for medical devices and supplies.
LOCATION:Song Da training room\, Ground Floor\, Pullman Hotel\, 40 Cat Linh\, Hanoi. Vietnam
UID:e.9078.7721
SEQUENCE:3
DTSTAMP:20260420T065930Z
URL:http://usasean.memberzone.com/events/details/hta-training-workshop-for-vietnam-7721
END:VEVENT

END:VCALENDAR
