BEGIN:VCALENDAR
VERSION:2.0
PRODID:-//ChamberMaster//Event Calendar 2.0//EN
METHOD:PUBLISH
X-PUBLISHED-TTL:P3D
REFRESH-INTERVAL:P3D
CALSCALE:GREGORIAN
BEGIN:VEVENT
DTSTART;VALUE=DATE:20150525
DTEND;VALUE=DATE:20150526
TRANSP:TRANSPARENT
X-MICROSOFT-CDO-ALLDAYEVENT:TRUE
SUMMARY:Holiday: Memorial Day (USA)
DESCRIPTION:
X-ALT-DESC;FMTTYPE=text/html:
LOCATION:
UID:e.9078.1401
SEQUENCE:3
DTSTAMP:20260419T120854Z
URL:http://usasean.memberzone.com/events/details/holiday-memorial-day-usa-05-25-2015-1401
END:VEVENT

END:VCALENDAR
