BEGIN:VCALENDAR
VERSION:2.0
PRODID:-//ChamberMaster//Event Calendar 2.0//EN
METHOD:PUBLISH
X-PUBLISHED-TTL:P3D
REFRESH-INTERVAL:P3D
CALSCALE:GREGORIAN
BEGIN:VEVENT
DTSTART:20220714T010000Z
DTEND:20220714T020000Z
X-MICROSOFT-CDO-ALLDAYEVENT:FALSE
SUMMARY:HLS Q2 Committee Call
DESCRIPTION:Second HLS Committee Call of 2022.
X-ALT-DESC;FMTTYPE=text/html:Second HLS Committee Call of 2022.
LOCATION:Zoom details to be provided upon registration.
UID:e.9078.8807
SEQUENCE:3
DTSTAMP:20260422T094711Z
URL:http://usasean.memberzone.com/events/details/hls-q2-committee-call-8807
END:VEVENT

END:VCALENDAR
