BEGIN:VCALENDAR
VERSION:2.0
PRODID:-//ChamberMaster//Event Calendar 2.0//EN
METHOD:PUBLISH
X-PUBLISHED-TTL:P3D
REFRESH-INTERVAL:P3D
CALSCALE:GREGORIAN
BEGIN:VEVENT
DTSTART:20210616T010000Z
DTEND:20210616T020000Z
X-MICROSOFT-CDO-ALLDAYEVENT:FALSE
SUMMARY:HLS Committee Public Health & Equity Cluster Kickoff
DESCRIPTION:HLS Committee Public Health & Equity Cluster Kickoff Meeting
X-ALT-DESC;FMTTYPE=text/html:<strong>HLS Committee Public Health &amp\; Equity Cluster Kickoff Meeting</strong>
LOCATION:
UID:e.9078.8493
SEQUENCE:3
DTSTAMP:20260423T150824Z
URL:http://usasean.memberzone.com/events/details/hls-committee-public-health-equity-cluster-kickoff-8493
END:VEVENT

END:VCALENDAR
