BEGIN:VCALENDAR
VERSION:2.0
PRODID:-//ChamberMaster//Event Calendar 2.0//EN
METHOD:PUBLISH
X-PUBLISHED-TTL:P3D
REFRESH-INTERVAL:P3D
CALSCALE:GREGORIAN
BEGIN:VEVENT
DTSTART:20180221T133000Z
DTEND:20180221T150000Z
X-MICROSOFT-CDO-ALLDAYEVENT:FALSE
SUMMARY:HLS Committee Meeting With Ambassador Michael Michalak\, USABC Senior Vice President and Regional Managing Director
DESCRIPTION:HLS Committee Meeting With\n\nAmbassador Michael Michalak\,  \n\nUSABC Senior Vice President and \n\nRegional Managing Director
X-ALT-DESC;FMTTYPE=text/html:<span style="font-size:14px\;"><span style="font-family: arial\;"><span style="letter-spacing: 0.75pt\;"><span style="color: rgb(51\, 51\, 51)\;">HLS Committee Meeting With<br />\nAmbassador Michael Michalak\,&nbsp\; </span></span><br />\n<span style="letter-spacing: 0.75pt\;"><span style="color: rgb(51\, 51\, 51)\;">USABC Senior Vice President and&nbsp\;<br />\nRegional Managing Director</span></span></span></span>
LOCATION:Fairmont Gold Meeting Room 21st Floor Fairmont Hotel Jl. Asia Afrika No. 8 Jakarta 10270
UID:e.9078.6481
SEQUENCE:3
DTSTAMP:20260419T164839Z
URL:http://usasean.memberzone.com/events/details/hls-committee-meeting-with-ambassador-michael-michalak-usabc-senior-vice-president-and-regional-managing-director-6481
END:VEVENT

END:VCALENDAR
