BEGIN:VCALENDAR
VERSION:2.0
PRODID:-//ChamberMaster//Event Calendar 2.0//EN
METHOD:PUBLISH
X-PUBLISHED-TTL:P3D
REFRESH-INTERVAL:P3D
CALSCALE:GREGORIAN
BEGIN:VEVENT
DTSTART:20230517T063000Z
DTEND:20230517T073000Z
X-MICROSOFT-CDO-ALLDAYEVENT:FALSE
SUMMARY:Health & Life Sciences: Meeting with Dr. Helmy\, Special Advisor to Malaysia Minister of Health
DESCRIPTION:Special roundtable session with Dr. Helmy\, special advisor to Malaysia Minister of Health.
X-ALT-DESC;FMTTYPE=text/html:Special roundtable session with Dr. Helmy\, special advisor to Malaysia Minister of Health.
LOCATION:Venue provided to registered participants.
UID:e.9078.9021
SEQUENCE:3
DTSTAMP:20260421T125215Z
URL:http://usasean.memberzone.com/events/details/health-life-sciences-meeting-with-dr-helmy-special-advisor-to-malaysia-minister-of-health-9021
END:VEVENT

END:VCALENDAR
