BEGIN:VCALENDAR
VERSION:2.0
PRODID:-//ChamberMaster//Event Calendar 2.0//EN
METHOD:PUBLISH
X-PUBLISHED-TTL:P3D
REFRESH-INTERVAL:P3D
CALSCALE:GREGORIAN
BEGIN:VEVENT
DTSTART:20190821T093000Z
DTEND:20190821T103000Z
X-MICROSOFT-CDO-ALLDAYEVENT:FALSE
SUMMARY:Health & Life Sciences Committee Call on Pricing Issues in ASEAN
DESCRIPTION:Health & Life Sciences Committee Conference Call to Discuss Pricing Issues in ASEAN. One proposed topic is the Philippines Maximum Drug Retail Price (MDRP) policy.
X-ALT-DESC;FMTTYPE=text/html:Health &amp\; Life Sciences Committee Conference Call to Discuss Pricing Issues in ASEAN. One proposed topic is the Philippines Maximum Drug Retail Price (MDRP) policy.
LOCATION:Conference Call
UID:e.9078.8003
SEQUENCE:3
DTSTAMP:20260424T224048Z
URL:http://usasean.memberzone.com/events/details/health-life-sciences-committee-call-on-pricing-issues-in-asean-8003
END:VEVENT

END:VCALENDAR
