BEGIN:VCALENDAR
VERSION:2.0
PRODID:-//ChamberMaster//Event Calendar 2.0//EN
METHOD:PUBLISH
X-PUBLISHED-TTL:P3D
REFRESH-INTERVAL:P3D
CALSCALE:GREGORIAN
BEGIN:VEVENT
DTSTART:20130515T140000Z
DTEND:20130515T150000Z
X-MICROSOFT-CDO-ALLDAYEVENT:FALSE
SUMMARY:Health and Life Sciences Working Group Meeting in Singapore
DESCRIPTION:Please join Dr. Leslie Mancuso\, President/CEO of Jhpiego and HLS Working Group Chair\, for our quarterly meeting in Singapore. We will discuss upcoming events and determine the Working Group's priorities and initiatives for the coming months.
X-ALT-DESC;FMTTYPE=text/html:<span style="font-family: arial\;">Please join Dr. Leslie Mancuso\, </span><span class="st">President/CEO of Jhpiego and </span><span style="font-family: arial\;">HLS Working Group Chair\, for our quarterly meeting in Singapore. We will discuss upcoming events and determine the Working Group&#39\;s priorities and initiatives for the coming months.</span>
LOCATION:Covidien 103 Penang Road Visioncrest Commercial Building\, #10-01 Singapore 238467
UID:e.9078.772
SEQUENCE:3
DTSTAMP:20260422T003641Z
URL:http://usasean.memberzone.com/events/details/health-and-life-sciences-working-group-meeting-in-singapore-05-15-2013-772
END:VEVENT

END:VCALENDAR
