BEGIN:VCALENDAR
VERSION:2.0
PRODID:-//ChamberMaster//Event Calendar 2.0//EN
METHOD:PUBLISH
X-PUBLISHED-TTL:P3D
REFRESH-INTERVAL:P3D
CALSCALE:GREGORIAN
BEGIN:VEVENT
DTSTART:20190904T070000Z
DTEND:20190904T083000Z
X-MICROSOFT-CDO-ALLDAYEVENT:FALSE
SUMMARY:Group Discussion on Indonesia Cybersecurity Bill
DESCRIPTION:Dear Members\,\n\n\n\nThe Council is pleased to invite you to a Group Discussion on Indonesia Cybersecurity Bill at 2:00 PM - 3:30 PM (Jakarta Time) on Wednesday\, September 4\, 2019. The meeting will take place in Mastercard Jakarta Office and will cover the following topics:\n\n	Exchange of views on critical points of the Indonesia Cybersecurity Bill\n	Further advocacy steps\n\n\nIn-person participation is encouraged\, but a dial-in option will be provided. Please indicate during registration if you need the dial-in information.\n\n\n\nShould you have any questions\, you may contact Angga Antagia at aantagia@usasean.org or Ayu Nadia anadia@usasean.org.
X-ALT-DESC;FMTTYPE=text/html:<span style="font-size: 16px\; font-family: arial\;">Dear Members\,<br />\n<br />\nThe Council is pleased to invite you to a Group Discussion on Indonesia Cybersecurity Bill at&nbsp\;<strong>2</strong><strong>:00 PM - 3:30 PM (Jakarta Time) on Wednesday\, September 4\, 2019</strong>. The meeting will take place in&nbsp\;<strong>Mastercard Jakarta Office</strong>&nbsp\;and will cover the following topics:</span>\n<ul style="font-size: 16px\;">\n	<li><span style="font-family: arial\;">Exchange of views on critical points of the&nbsp\;Indonesia&nbsp\;Cybersecurity Bill</span></li>\n	<li><span style="font-family: arial\;">Further advocacy steps</span></li>\n</ul>\n\n<p style="font-size: 16px\;"><span style="font-family: arial\;"><strong style="color: rgb(32\, 31\, 30)\;">In-person participation is encouraged\, but a dial-in option will be provided. Please indicate during registration if you need the&nbsp\;dial-in information.</strong></span><br />\n<br />\nShould you have any questions\, <span style="color: rgb(32\, 31\, 30)\; font-family: arial\; font-size: 16px\;">you may contact Angga Antagia at&nbsp\;</span><span style="margin: 0px\; padding: 0px\; border: 0px\; font-variant-numeric: inherit\; font-variant-east-asian: inherit\; font-stretch: inherit\; font-size: 16px\; line-height: inherit\; font-family: arial\; vertical-align: baseline\; color: rgb(0\, 0\, 255)\;"><u>aantagia@usasean.org&nbsp\;</u></span><span style="color: rgb(32\, 31\, 30)\; font-family: arial\; font-size: 16px\;">or&nbsp\;Ayu Nadia&nbsp\;</span><span style="margin: 0px\; padding: 0px\; border: 0px\; font-variant-numeric: inherit\; font-variant-east-asian: inherit\; font-stretch: inherit\; font-size: 16px\; line-height: inherit\; font-family: arial\; vertical-align: baseline\; color: rgb(0\, 0\, 255)\;">anadia@usasean.org</span><span style="color: rgb(32\, 31\, 30)\; font-family: arial\; font-size: 16px\;">.</span></p>\n
LOCATION:Mastercard Jakarta Office\, Bima Room Sentral Senayan I\, 6th Floor Jl. Asia Afrika No 8 Jakarta\, Indonesia 10270
UID:e.9078.8016
SEQUENCE:3
DTSTAMP:20260424T223912Z
URL:http://usasean.memberzone.com/events/details/group-discussion-on-indonesia-cybersecurity-bill-8016
END:VEVENT

END:VCALENDAR
