BEGIN:VCALENDAR
VERSION:2.0
PRODID:-//ChamberMaster//Event Calendar 2.0//EN
METHOD:PUBLISH
X-PUBLISHED-TTL:P3D
REFRESH-INTERVAL:P3D
CALSCALE:GREGORIAN
BEGIN:VEVENT
DTSTART:20230920T220000Z
DTEND:20230921T003000Z
X-MICROSOFT-CDO-ALLDAYEVENT:FALSE
SUMMARY:Gala Dinner in honor of H.E. Srettha Thavisin\, Prime Minister of Thailand
DESCRIPTION:Gala Dinner in honor of Srettha Thavisin\, Prime Minister of Thailand
X-ALT-DESC;FMTTYPE=text/html:Gala Dinner in honor of Srettha Thavisin\, Prime Minister of Thailand&nbsp\;&nbsp\;&nbsp\;&nbsp\;&nbsp\;&nbsp\;
LOCATION:New York City
UID:e.9078.9127
SEQUENCE:3
DTSTAMP:20260421T212258Z
URL:http://usasean.memberzone.com/events/details/gala-dinner-in-honor-of-h-e-srettha-thavisin-prime-minister-of-thailand-9127
END:VEVENT

END:VCALENDAR
