BEGIN:VCALENDAR
VERSION:2.0
PRODID:-//ChamberMaster//Event Calendar 2.0//EN
METHOD:PUBLISH
X-PUBLISHED-TTL:P3D
REFRESH-INTERVAL:P3D
CALSCALE:GREGORIAN
BEGIN:VEVENT
DTSTART:20180927T113000Z
DTEND:20180927T130000Z
X-MICROSOFT-CDO-ALLDAYEVENT:FALSE
SUMMARY:FPCI CEO Breakfast with Prof. Bambang Brodjonegoro\, Minister of National Development Planning
DESCRIPTION:The Council is pleased to invite you to a CEO breakfast meeting with Minister of Natioanl Development Planning\, Prof. Bambang Brodjonegoro organized by the Foreign Policy Community of Indonesia (FPCI) and hosted by Dr. Dino Patti Djalal. The meeting serves as a platform for business leaders to obtain first-hand updates from the Minister on Indonesian Economy in the last 4 years and priorities for the next 1 year. Moreover\, this will be an opportunity for business leaders to network with the Minister and also with each other.
X-ALT-DESC;FMTTYPE=text/html:<span style="display: inline !important\; float: none\; background-color: transparent\; color: rgb(51\, 51\, 51)\; font-family: georgia\,serif\; font-size: 13px\; font-style: normal\; font-variant: normal\; font-weight: 400\; letter-spacing: normal\; orphans: 2\; text-align: left\; text-decoration: none\; text-indent: 0px\; text-transform: none\; -webkit-text-stroke-width: 0px\; white-space: normal\; word-spacing: 0px\;">The Council is pleased to invite you to a CEO breakfast meeting with Minister of Natioanl Development Planning\, Prof. Bambang Brodjonegoro organized by the Foreign Policy Community of Indonesia (FPCI) and hosted by Dr. Dino Patti Djalal. The meeting serves as a platform for business leaders to obtain first-hand updates from the Minister on Indonesian Economy in the last 4 years and priorities for the next 1 year. Moreover\, this will be an opportunity for business leaders to network with the Minister and also with each other.</span>
LOCATION:Sumba C room\, Hotel Borobudur Jl. Lapangan Banteng Selatan No. 1 Jakarta\, Indonesia 10710
UID:e.9078.7695
SEQUENCE:3
DTSTAMP:20260420T053736Z
URL:http://usasean.memberzone.com/events/details/fpci-ceo-breakfast-with-prof-bambang-brodjonegoro-minister-of-national-development-planning-7695
END:VEVENT

END:VCALENDAR
