BEGIN:VCALENDAR
VERSION:2.0
PRODID:-//ChamberMaster//Event Calendar 2.0//EN
METHOD:PUBLISH
X-PUBLISHED-TTL:P3D
REFRESH-INTERVAL:P3D
CALSCALE:GREGORIAN
BEGIN:VEVENT
DTSTART:20180907T003000Z
DTEND:20180907T020000Z
X-MICROSOFT-CDO-ALLDAYEVENT:FALSE
SUMMARY:FPCI CEO Breakfast with Drs. Enggartiasto Lukita\, Indonesian Minister of Trade
DESCRIPTION:The Council is pleased to invite you to a CEO breakfast meeting with Trade Minister Enggartiasto Lukita organized by the Foreign Policy Community of Indonesia (FPCI) and hosted by Dr. Dino Patti Djalal. The meeting serves as a platform for business leaders to obtain first-hand updates from the Minister on Indonesia's latest trade policy. Moreover\, this will be an opportunity for business leaders to network with the Minister and also with each other.
X-ALT-DESC;FMTTYPE=text/html:<span style="font-family:georgia\,serif\;">The Council is pleased to invite you to a CEO breakfast meeting with Trade Minister Enggartiasto Lukita organized by the Foreign Policy Community of Indonesia (FPCI) and hosted by Dr. Dino Patti Djalal. The meeting serves as a platform for business leaders to obtain first-hand updates from the Minister on Indonesia&rsquo\;s latest trade policy. Moreover\, this will be an opportunity for business leaders to network with the Minister and also with each other.</span>
LOCATION:Banda B room\, Hotel Borobudur Jl. Lapangan Banteng Selatan No. 1 Jakarta\, Indonesia 10710
UID:e.9078.7674
SEQUENCE:3
DTSTAMP:20260420T053810Z
URL:http://usasean.memberzone.com/events/details/fpci-ceo-breakfast-with-drs-enggartiasto-lukita-indonesian-minister-of-trade-7674
END:VEVENT

END:VCALENDAR
