BEGIN:VCALENDAR
VERSION:2.0
PRODID:-//ChamberMaster//Event Calendar 2.0//EN
METHOD:PUBLISH
X-PUBLISHED-TTL:P3D
REFRESH-INTERVAL:P3D
CALSCALE:GREGORIAN
BEGIN:VEVENT
DTSTART:20171212T010000Z
DTEND:20171212T020000Z
X-MICROSOFT-CDO-ALLDAYEVENT:FALSE
SUMMARY:Food & Agriculture Committee Planning Call
DESCRIPTION:Food & Agriculture Committee Planning Call
X-ALT-DESC;FMTTYPE=text/html:Food &amp\; Agriculture Committee Planning Call&nbsp\;&nbsp\;&nbsp\;&nbsp\;
LOCATION:Conference Call in Details to be provided
UID:e.9078.6432
SEQUENCE:3
DTSTAMP:20260419T134220Z
URL:http://usasean.memberzone.com/events/details/food-agriculture-committee-planning-call-6432
END:VEVENT

END:VCALENDAR
