BEGIN:VCALENDAR
VERSION:2.0
PRODID:-//ChamberMaster//Event Calendar 2.0//EN
METHOD:PUBLISH
X-PUBLISHED-TTL:P3D
REFRESH-INTERVAL:P3D
CALSCALE:GREGORIAN
BEGIN:VEVENT
DTSTART:20191030T010000Z
DTEND:20191030T043000Z
X-MICROSOFT-CDO-ALLDAYEVENT:FALSE
SUMMARY:Focus Group Discussion: Government Procurement for Medical Devices in Universal Healthcare Coverage (UHC)
DESCRIPTION:
X-ALT-DESC;FMTTYPE=text/html:
LOCATION:Menara Astra Jl. Jend. Sudirman No. Kav 5 Jakarta Pusat\, Indonesia 10220
UID:e.9078.8065
SEQUENCE:3
DTSTAMP:20260424T195319Z
URL:http://usasean.memberzone.com/events/details/focus-group-discussion-government-procurement-for-medical-devices-in-universal-healthcare-coverage-uhc-8065
END:VEVENT

END:VCALENDAR
